BEGIN:VCALENDAR
VERSION:2.0
PRODID:-//St. Peter’s Episcopal Church - ECPv6.7.0//NONSGML v1.0//EN
CALSCALE:GREGORIAN
METHOD:PUBLISH
X-WR-CALNAME:St. Peter’s Episcopal Church
X-ORIGINAL-URL:https://stpetersgeneva.org
X-WR-CALDESC:Events for St. Peter’s Episcopal Church
REFRESH-INTERVAL;VALUE=DURATION:PT1H
X-Robots-Tag:noindex
X-PUBLISHED-TTL:PT1H
BEGIN:VTIMEZONE
TZID:America/New_York
BEGIN:DAYLIGHT
TZOFFSETFROM:-0500
TZOFFSETTO:-0400
TZNAME:EDT
DTSTART:20200308T070000
END:DAYLIGHT
BEGIN:STANDARD
TZOFFSETFROM:-0400
TZOFFSETTO:-0500
TZNAME:EST
DTSTART:20201101T060000
END:STANDARD
END:VTIMEZONE
BEGIN:VEVENT
DTSTART;TZID=America/New_York:20200705T093000
DTEND;TZID=America/New_York:20200705T103000
DTSTAMP:20260425T195654
CREATED:20180625T143545Z
LAST-MODIFIED:20200708T170355Z
UID:1264-1593941400-1593945000@stpetersgeneva.org
SUMMARY:Holy Eucharist  Summer Schedule
DESCRIPTION:Church service can be found on St. Peter’s Episcopal Church\, Geneva NY  Youtube Channel. Click on “More Details” for the link.
URL:https://stpetersgeneva.org/event/holy-eucharist-summer-schedule/
LOCATION:Geneva\, NY\, 14456\, United States
CATEGORIES:Worship Services
END:VEVENT
END:VCALENDAR