BEGIN:VCALENDAR
VERSION:2.0
PRODID:-//St. Peter’s Episcopal Church - ECPv6.7.0//NONSGML v1.0//EN
CALSCALE:GREGORIAN
METHOD:PUBLISH
X-WR-CALNAME:St. Peter’s Episcopal Church
X-ORIGINAL-URL:https://stpetersgeneva.org
X-WR-CALDESC:Events for St. Peter’s Episcopal Church
REFRESH-INTERVAL;VALUE=DURATION:PT1H
X-Robots-Tag:noindex
X-PUBLISHED-TTL:PT1H
BEGIN:VTIMEZONE
TZID:America/New_York
BEGIN:DAYLIGHT
TZOFFSETFROM:-0500
TZOFFSETTO:-0400
TZNAME:EDT
DTSTART:20230312T070000
END:DAYLIGHT
BEGIN:STANDARD
TZOFFSETFROM:-0400
TZOFFSETTO:-0500
TZNAME:EST
DTSTART:20231105T060000
END:STANDARD
END:VTIMEZONE
BEGIN:VEVENT
DTSTART;TZID=America/New_York:20231224T160000
DTEND;TZID=America/New_York:20231224T170000
DTSTAMP:20260419T220514
CREATED:20171212T025339Z
LAST-MODIFIED:20171212T025339Z
UID:3117-1703433600-1703437200@stpetersgeneva.org
SUMMARY:Christmas Eve Children's Service
DESCRIPTION:This Christmas Service is designed with families and small children in mind.  Join us as we celebrate the joy of Christmas and celebrate the birth of Jesus Christ.  Children are invited to bring a small stuffed toy to place on the altar during the service. Come and enjoy.  All are Welcome.
URL:https://stpetersgeneva.org/event/christmas-eve-childrens-service-2023-12-24/
LOCATION:St Peter’s Memorial Church\, 149 Genesee Street\, Geneva\, NY\, 14456\, United States
CATEGORIES:Worship Services,Choirs and Music,Youth Programs,Community Activities
END:VEVENT
END:VCALENDAR